BEGIN:VCALENDAR
VERSION:2.0
PRODID:-//Schießsportverein Menne e.V. - ECPv4.5.8//NONSGML v1.0//EN
CALSCALE:GREGORIAN
METHOD:PUBLISH
X-WR-CALNAME:Schießsportverein Menne e.V.
X-ORIGINAL-URL:https://www.ssv-menne.de
X-WR-CALDESC:Events for Schießsportverein Menne e.V.
BEGIN:VEVENT
DTSTART;TZID=Europe/Berlin:20180123T193000
DTEND;TZID=Europe/Berlin:20180123T213000
DTSTAMP:20260425T202244
CREATED:20180119T095102Z
LAST-MODIFIED:20180119T095102Z
UID:1613-1516735800-1516743000@www.ssv-menne.de
SUMMARY:Vereinsmeisterschaften alle Disziplinen
DESCRIPTION:
URL:https://www.ssv-menne.de/termin/vereinsmeisterschaften-alle-disziplinen/
LOCATION:Schießsportverein Menne e.V.\, Waldbreite 39\, Warburg\, NRW\, 34414\, Deutschland
END:VEVENT
END:VCALENDAR