BEGIN:VCALENDAR
VERSION:2.0
PRODID:-//Schießsportverein Menne e.V. - ECPv4.5.8//NONSGML v1.0//EN
CALSCALE:GREGORIAN
METHOD:PUBLISH
X-WR-CALNAME:Schießsportverein Menne e.V.
X-ORIGINAL-URL:https://www.ssv-menne.de
X-WR-CALDESC:Events for Schießsportverein Menne e.V.
BEGIN:VEVENT
DTSTART;TZID=Europe/Berlin:20180201T193000
DTEND;TZID=Europe/Berlin:20180201T213000
DTSTAMP:20260425T232912
CREATED:20180119T100210Z
LAST-MODIFIED:20180119T100210Z
UID:1620-1517513400-1517520600@www.ssv-menne.de
SUMMARY:Vereinsmeisterschaften alle Disziplinen
DESCRIPTION:
URL:https://www.ssv-menne.de/termin/vereinsmeisterschaften-alle-disziplinen-3/
LOCATION:Schießsportverein Menne e.V.\, Waldbreite 39\, Warburg\, NRW\, 34414\, Deutschland
END:VEVENT
END:VCALENDAR