BEGIN:VCALENDAR
VERSION:2.0
PRODID:-//Schießsportverein Menne e.V. - ECPv4.5.8//NONSGML v1.0//EN
CALSCALE:GREGORIAN
METHOD:PUBLISH
X-WR-CALNAME:Schießsportverein Menne e.V.
X-ORIGINAL-URL:https://www.ssv-menne.de
X-WR-CALDESC:Events for Schießsportverein Menne e.V.
BEGIN:VEVENT
DTSTART;TZID=Europe/Berlin:20180102T193000
DTEND;TZID=Europe/Berlin:20180102T213000
DTSTAMP:20260425T184829
CREATED:20180102T131945Z
LAST-MODIFIED:20180102T165939Z
UID:1496-1514921400-1514928600@www.ssv-menne.de
SUMMARY:Training Luftdruckwaffen
DESCRIPTION:
URL:https://www.ssv-menne.de/termin/training-luftgewehr/
CATEGORIES:Training
END:VEVENT
END:VCALENDAR