BEGIN:VCALENDAR
VERSION:2.0
PRODID:-//Schießsportverein Menne e.V. - ECPv4.5.8//NONSGML v1.0//EN
CALSCALE:GREGORIAN
METHOD:PUBLISH
X-WR-CALNAME:Schießsportverein Menne e.V.
X-ORIGINAL-URL:https://www.ssv-menne.de
X-WR-CALDESC:Events for Schießsportverein Menne e.V.
BEGIN:VEVENT
DTSTART;TZID=Europe/Berlin:20180123T193000
DTEND;TZID=Europe/Berlin:20180123T213000
DTSTAMP:20260425T185034
CREATED:20180102T132516Z
LAST-MODIFIED:20180102T170226Z
UID:1504-1516735800-1516743000@www.ssv-menne.de
SUMMARY:Training Luftdruckwaffen
DESCRIPTION:
URL:https://www.ssv-menne.de/termin/training-luftgewehr-23/
LOCATION:Schießsportverein Menne e.V.\, Waldbreite 39\, Warburg\, NRW\, 34414\, Deutschland
CATEGORIES:Training
END:VEVENT
END:VCALENDAR