BEGIN:VCALENDAR
VERSION:2.0
PRODID:-//Schießsportverein Menne e.V. - ECPv4.5.8//NONSGML v1.0//EN
CALSCALE:GREGORIAN
METHOD:PUBLISH
X-WR-CALNAME:Schießsportverein Menne e.V.
X-ORIGINAL-URL:https://www.ssv-menne.de
X-WR-CALDESC:Events for Schießsportverein Menne e.V.
BEGIN:VEVENT
DTSTART;TZID=Europe/Berlin:20181127T193000
DTEND;TZID=Europe/Berlin:20181127T213000
DTSTAMP:20260425T201945
CREATED:20181115T124513Z
LAST-MODIFIED:20181115T124513Z
UID:1901-1543347000-1543354200@www.ssv-menne.de
SUMMARY:Training Luftdruckwaffen
DESCRIPTION:
URL:https://www.ssv-menne.de/termin/training-luftdruckwaffen-33/
LOCATION:Schießsportverein Menne e.V.\, Waldbreite 39\, Warburg\, NRW\, 34414\, Deutschland
CATEGORIES:Training
END:VEVENT
END:VCALENDAR