BEGIN:VCALENDAR
VERSION:2.0
PRODID:-//Schießsportverein Menne e.V. - ECPv4.5.8//NONSGML v1.0//EN
CALSCALE:GREGORIAN
METHOD:PUBLISH
X-WR-CALNAME:Schießsportverein Menne e.V.
X-ORIGINAL-URL:https://www.ssv-menne.de
X-WR-CALDESC:Events for Schießsportverein Menne e.V.
BEGIN:VEVENT
DTSTART;TZID=Europe/Berlin:20181025T193000
DTEND;TZID=Europe/Berlin:20181025T213000
DTSTAMP:20260425T201937
CREATED:20181021T083737Z
LAST-MODIFIED:20181021T083737Z
UID:1876-1540495800-1540503000@www.ssv-menne.de
SUMMARY:Training Großkaliber
DESCRIPTION:
URL:https://www.ssv-menne.de/termin/training-grosskaliber-64/
LOCATION:Schießsportverein Menne e.V.\, Waldbreite 39\, Warburg\, NRW\, 34414\, Deutschland
CATEGORIES:Training
END:VEVENT
END:VCALENDAR