BEGIN:VCALENDAR
VERSION:2.0
PRODID:-//Schießsportverein Menne e.V. - ECPv4.5.8//NONSGML v1.0//EN
CALSCALE:GREGORIAN
METHOD:PUBLISH
X-WR-CALNAME:Schießsportverein Menne e.V.
X-ORIGINAL-URL:https://www.ssv-menne.de
X-WR-CALDESC:Events for Schießsportverein Menne e.V.
BEGIN:VEVENT
DTSTART;TZID=Europe/Berlin:20191226T193000
DTEND;TZID=Europe/Berlin:20191226T213000
DTSTAMP:20260425T202009
CREATED:20191220T090252Z
LAST-MODIFIED:20191220T090252Z
UID:2270-1577388600-1577395800@www.ssv-menne.de
SUMMARY:Training Großkaliber
DESCRIPTION:Feiertag – Kein Training \n
URL:https://www.ssv-menne.de/termin/training-grosskaliber-122/
LOCATION:Schießsportverein Menne e.V.\, Waldbreite 39\, Warburg\, NRW\, 34414\, Deutschland
CATEGORIES:Training
END:VEVENT
END:VCALENDAR