BEGIN:VCALENDAR
VERSION:2.0
PRODID:-//Schießsportverein Menne e.V. - ECPv4.5.8//NONSGML v1.0//EN
CALSCALE:GREGORIAN
METHOD:PUBLISH
X-WR-CALNAME:Schießsportverein Menne e.V.
X-ORIGINAL-URL:https://www.ssv-menne.de
X-WR-CALDESC:Events for Schießsportverein Menne e.V.
BEGIN:VEVENT
DTSTART;TZID=Europe/Berlin:20180111T190000
DTEND;TZID=Europe/Berlin:20180111T210000
DTSTAMP:20260425T172122
CREATED:20180108T075527Z
LAST-MODIFIED:20180108T075527Z
UID:1579-1515697200-1515704400@www.ssv-menne.de
SUMMARY:RWK 3 – Höxter : SSV Menne II – Gebrauchspistole/Gebrauchsrevolver
DESCRIPTION:
URL:https://www.ssv-menne.de/termin/rwk-3-hoexter-ssv-menne-ii-gebrauchspistolegebrauchsrevolver/
CATEGORIES:Rundenwettkampf
END:VEVENT
END:VCALENDAR