BEGIN:VCALENDAR
VERSION:2.0
PRODID:-//Schießsportverein Menne e.V. - ECPv4.5.8//NONSGML v1.0//EN
CALSCALE:GREGORIAN
METHOD:PUBLISH
X-WR-CALNAME:Schießsportverein Menne e.V.
X-ORIGINAL-URL:https://www.ssv-menne.de
X-WR-CALDESC:Events for Schießsportverein Menne e.V.
BEGIN:VEVENT
DTSTART;TZID=Europe/Berlin:20200108T190000
DTEND;TZID=Europe/Berlin:20200108T213000
DTSTAMP:20260425T160156
CREATED:20191128T124536Z
LAST-MODIFIED:20191128T124536Z
UID:2260-1578510000-1578519000@www.ssv-menne.de
SUMMARY:RWK 2 – SSV Ossendorf : SSV Menne II – Gebrauchspistole/Gebrauchsrevolver
DESCRIPTION:
URL:https://www.ssv-menne.de/termin/rwk-2-ssv-ossendorf-ssv-menne-ii-gebrauchspistolegebrauchsrevolver/
LOCATION:Schießsportverein Menne e.V.\, Waldbreite 39\, Warburg\, NRW\, 34414\, Deutschland
CATEGORIES:Rundenwettkampf
END:VEVENT
END:VCALENDAR