BEGIN:VCALENDAR
VERSION:2.0
PRODID:-//Schießsportverein Menne e.V. - ECPv4.5.8//NONSGML v1.0//EN
CALSCALE:GREGORIAN
METHOD:PUBLISH
X-WR-CALNAME:Schießsportverein Menne e.V.
X-ORIGINAL-URL:https://www.ssv-menne.de
X-WR-CALDESC:Events for Schießsportverein Menne e.V.
BEGIN:VEVENT
DTSTART;TZID=Europe/Berlin:20181121T190000
DTEND;TZID=Europe/Berlin:20181121T210000
DTSTAMP:20260425T172936
CREATED:20181121T191728Z
LAST-MODIFIED:20181121T191728Z
UID:1922-1542826800-1542834000@www.ssv-menne.de
SUMMARY:RWK 2 – SSV Ossendorf I : SSV Menne III : SV Höxter III – Gebrauchspistole/Gebrauchsrevolver
DESCRIPTION:
URL:https://www.ssv-menne.de/termin/rwk-2-ssv-ossendorf-i-ssv-menne-iii-sv-hoexter-iii-gebrauchspistolegebrauchsrevolver/
CATEGORIES:Rundenwettkampf
END:VEVENT
END:VCALENDAR