BEGIN:VCALENDAR
VERSION:2.0
PRODID:-//Schießsportverein Menne e.V. - ECPv4.5.8//NONSGML v1.0//EN
CALSCALE:GREGORIAN
METHOD:PUBLISH
X-WR-CALNAME:Schießsportverein Menne e.V.
X-ORIGINAL-URL:https://www.ssv-menne.de
X-WR-CALDESC:Events for Schießsportverein Menne e.V.
BEGIN:VEVENT
DTSTART;TZID=Europe/Berlin:20181118T100000
DTEND;TZID=Europe/Berlin:20181118T170000
DTSTAMP:20260425T202127
CREATED:20181001T063446Z
LAST-MODIFIED:20181001T063446Z
UID:1859-1542535200-1542560400@www.ssv-menne.de
SUMMARY:Kreismeisterschaft Großkaliber Pistole/Revolver
DESCRIPTION:
URL:https://www.ssv-menne.de/termin/kreismeisterschaft-grosskaliber-pistolerevolver/
END:VEVENT
END:VCALENDAR