BEGIN:VCALENDAR
VERSION:2.0
PRODID:-//Schießsportverein Menne e.V. - ECPv4.5.8//NONSGML v1.0//EN
CALSCALE:GREGORIAN
METHOD:PUBLISH
X-WR-CALNAME:Schießsportverein Menne e.V.
X-ORIGINAL-URL:http://www.ssv-menne.de
X-WR-CALDESC:Events for Schießsportverein Menne e.V.
BEGIN:VEVENT
DTSTART;TZID=Europe/Berlin:20190805T193000
DTEND;TZID=Europe/Berlin:20190805T213000
DTSTAMP:20260424T154014
CREATED:20190805T050649Z
LAST-MODIFIED:20190805T064007Z
UID:2148-1565033400-1565040600@www.ssv-menne.de
SUMMARY:Training Luftdruckwaffen
DESCRIPTION:
URL:http://www.ssv-menne.de/termin/training-luftdruckwaffen-66/
LOCATION:Schießsportverein Menne e.V.\, Waldbreite 39\, Warburg\, NRW\, 34414\, Deutschland
CATEGORIES:Training
END:VEVENT
END:VCALENDAR