BEGIN:VCALENDAR
VERSION:2.0
PRODID:-//Schießsportverein Menne e.V. - ECPv4.5.8//NONSGML v1.0//EN
CALSCALE:GREGORIAN
METHOD:PUBLISH
X-WR-CALNAME:Schießsportverein Menne e.V.
X-ORIGINAL-URL:http://www.ssv-menne.de
X-WR-CALDESC:Events for Schießsportverein Menne e.V.
BEGIN:VEVENT
DTSTART;TZID=Europe/Berlin:20190729T193000
DTEND;TZID=Europe/Berlin:20190729T213000
DTSTAMP:20260424T124939
CREATED:20190504T105016Z
LAST-MODIFIED:20190504T105016Z
UID:2112-1564428600-1564435800@www.ssv-menne.de
SUMMARY:Training Luftdruckwaffen
DESCRIPTION:
URL:http://www.ssv-menne.de/termin/training-luftdruckwaffen-65/
LOCATION:Schießsportverein Menne e.V.\, Waldbreite 39\, Warburg\, NRW\, 34414\, Deutschland
CATEGORIES:Training
END:VEVENT
END:VCALENDAR